BEGIN:VCALENDAR
VERSION:2.0
PRODID:-//Meeting of Styles CPH - ECPv5.8.2//NONSGML v1.0//EN
CALSCALE:GREGORIAN
METHOD:PUBLISH
X-WR-CALNAME:Meeting of Styles CPH
X-ORIGINAL-URL:http://meetingofstyles.dk
X-WR-CALDESC:Events for Meeting of Styles CPH
BEGIN:VTIMEZONE
TZID:Europe/Copenhagen
BEGIN:DAYLIGHT
TZOFFSETFROM:+0100
TZOFFSETTO:+0200
TZNAME:CEST
DTSTART:20190331T010000
END:DAYLIGHT
BEGIN:STANDARD
TZOFFSETFROM:+0200
TZOFFSETTO:+0100
TZNAME:CET
DTSTART:20191027T010000
END:STANDARD
END:VTIMEZONE
BEGIN:VEVENT
DTSTART;TZID=Europe/Copenhagen:20190719T100000
DTEND;TZID=Europe/Copenhagen:20190721T190000
DTSTAMP:20260419T150544
CREATED:20181013T230606Z
LAST-MODIFIED:20181013T230606Z
UID:205-1563530400-1563735600@meetingofstyles.dk
SUMMARY:Meeting of Styles Copenhagen 2019
DESCRIPTION:IN 2019\, we will be back with another round of Meeting of Styles Copenhagen! Don’t miss out\, when 50 skilled Street art and graffiti artists from all over visits downtown Copenhagen in the beautiful settings between Palads Bio\, Pumpehuset\, Axel Towers and Tivoli! \nMore info will be updated during the spring of 2019
URL:http://meetingofstyles.dk/event/meeting-of-styles-copenhagen-2019/
LOCATION:Axel Torv\, Axel Torv\, Copenhagen\, Denmark
ORGANIZER;CN="Steffen%20Gray":MAILTO:info@meetingofstyles.dk
END:VEVENT
END:VCALENDAR